BEGIN:VCALENDAR
VERSION:2.0
PRODID:-//Plone.org//NONSGML plone.app.event//EN
X-WR-TIMEZONE:Europe/Madrid
BEGIN:VEVENT
SUMMARY:Entrevista per Ona Maresme
DTSTART;TZID=Europe/Madrid;VALUE=DATE-TIME:20190913T173000
DTEND;TZID=Europe/Madrid;VALUE=DATE-TIME:20190913T183000
DTSTAMP;VALUE=DATE-TIME:20260424T130526Z
UID:9b2ad2b8bfe3125e0abefa49663267d5
CREATED;VALUE=DATE-TIME:20190913T000000Z
CATEGORIES:Agenda institucional
URL:https://www.canetdemar.cat/document.php?id=18950
END:VEVENT
END:VCALENDAR