BEGIN:VCALENDAR
VERSION:2.0
PRODID:-//Plone.org//NONSGML plone.app.event//EN
X-WR-TIMEZONE:Europe/Madrid
BEGIN:VEVENT
SUMMARY:Entrevista Ràdio Canet
DTSTART;TZID=Europe/Madrid;VALUE=DATE-TIME:20190912T123000
DTEND;TZID=Europe/Madrid;VALUE=DATE-TIME:20190912T133000
DTSTAMP;VALUE=DATE-TIME:20260423T053256Z
UID:432f9fc2b52ce44cdd16738e89c8301b
CREATED;VALUE=DATE-TIME:20190912T000000Z
CATEGORIES:Agenda institucional
URL:https://www.canetdemar.cat/document.php?id=18947
END:VEVENT
END:VCALENDAR