BEGIN:VCALENDAR
VERSION:2.0
PRODID:-//Plone.org//NONSGML plone.app.event//EN
X-WR-TIMEZONE:Europe/Madrid
BEGIN:VEVENT
SUMMARY:Reunió Diputació - alcaldes
DTSTART;TZID=Europe/Madrid;VALUE=DATE-TIME:20190904T123000
DTEND;TZID=Europe/Madrid;VALUE=DATE-TIME:20190904T133000
DTSTAMP;VALUE=DATE-TIME:20260424T192003Z
UID:7417161860e6954689b7cea996669b38
CREATED;VALUE=DATE-TIME:20190904T000000Z
CATEGORIES:Agenda institucional
URL:https://www.canetdemar.cat/document.php?id=18945
END:VEVENT
END:VCALENDAR