BEGIN:VCALENDAR
VERSION:2.0
PRODID:-//Plone.org//NONSGML plone.app.event//EN
X-WR-TIMEZONE:Europe/Madrid
BEGIN:VEVENT
SUMMARY:Taller: Com desenvolupar una negociació constructiva
DTSTART;TZID=Europe/Madrid;VALUE=DATE-TIME:20191007T090000
DTEND;TZID=Europe/Madrid;VALUE=DATE-TIME:20191007T100000
DTSTAMP;VALUE=DATE-TIME:20260423T201231Z
UID:98176d5d0b347c029103bf2330a2615e
CREATED;VALUE=DATE-TIME:20191007T000000Z
LOCATION:La Masoveria de Vil·la Flora
ORGANIZER:Àrea de Promoció Econòmica
COMMENT:Preu: gratuït
Durada: El 7, 14 i 21 d'octubre de 9.00 a 14.00 hores
URL:https://www.canetdemar.cat/document.php?id=18879
END:VEVENT
END:VCALENDAR