BEGIN:VCALENDAR
VERSION:2.0
PRODID:-//Plone.org//NONSGML plone.app.event//EN
X-WR-TIMEZONE:Europe/Madrid
BEGIN:VEVENT
SUMMARY:Hora del conte: Història de Bamako, una nena que ha de fugir
DTSTART;TZID=Europe/Madrid;VALUE=DATE-TIME:20191127T180000
DTEND;TZID=Europe/Madrid;VALUE=DATE-TIME:20191127T190000
DTSTAMP;VALUE=DATE-TIME:20260420T030702Z
UID:7f2e3af823d079a1d6b4bbfc433c0fc0
CREATED;VALUE=DATE-TIME:20191127T000000Z
CATEGORIES:Infantils
LOCATION:Biblioteca P. Gual i Pujadas
ORGANIZER:Biblioteca P. Gual i Pujadas / Aktes teatre
COMMENT:Preu: Gratuït
DESCRIPTION:Conte especial: Dies Europeus per a la Solidaritat Local
URL:https://www.canetdemar.cat/document.php?id=18863
END:VEVENT
END:VCALENDAR