BEGIN:VCALENDAR
VERSION:2.0
PRODID:-//Plone.org//NONSGML plone.app.event//EN
X-WR-TIMEZONE:Europe/Madrid
BEGIN:VEVENT
SUMMARY:Xerrada amb Artur Mas
DTSTART;TZID=Europe/Madrid;VALUE=DATE-TIME:20191011T200000
DTEND;TZID=Europe/Madrid;VALUE=DATE-TIME:20191011T210000
DTSTAMP;VALUE=DATE-TIME:20260422T164936Z
UID:8523b6c9097f145e71ef893b751ddda7
CREATED;VALUE=DATE-TIME:20191011T000000Z
CATEGORIES:Conferència
LOCATION:Envelat de Vil·la Flora
ORGANIZER:Àgora Canet
URL:https://www.canetdemar.cat/document.php?id=18852
END:VEVENT
END:VCALENDAR