BEGIN:VCALENDAR
VERSION:2.0
PRODID:-//Plone.org//NONSGML plone.app.event//EN
X-WR-TIMEZONE:Europe/Madrid
BEGIN:VEVENT
SUMMARY:Jocs gegants antics de fusta
DTSTART;TZID=Europe/Madrid;VALUE=DATE-TIME:20190909T110000
DTEND;TZID=Europe/Madrid;VALUE=DATE-TIME:20190909T120000
DTSTAMP;VALUE=DATE-TIME:20260424T171335Z
UID:dd6744abfdf0fb2902be76f8274c7a68
CREATED;VALUE=DATE-TIME:20190909T000000Z
LOCATION:Riera Sant Domènec
ORGANIZER:Àrea de Festes
DESCRIPTION:Activitat de les Festes de la Mare de Déu de la Misericòrdia
URL:https://www.canetdemar.cat/document.php?id=18825
END:VEVENT
END:VCALENDAR