BEGIN:VCALENDAR
VERSION:2.0
PRODID:-//Plone.org//NONSGML plone.app.event//EN
X-WR-TIMEZONE:Europe/Madrid
BEGIN:VEVENT
SUMMARY:Inici del curs Ofimàtica i programari lliure
DTSTART;TZID=Europe/Madrid;VALUE=DATE-TIME:20051123T190000
DTEND;TZID=Europe/Madrid;VALUE=DATE-TIME:20051123T200000
DTSTAMP;VALUE=DATE-TIME:20260424T050650Z
UID:f4fb7c31cee87e9c57d303dfb2012128
CREATED;VALUE=DATE-TIME:20051123T000000Z
URL:https://www.canetdemar.cat/document.php?id=1882
END:VEVENT
END:VCALENDAR