BEGIN:VCALENDAR
VERSION:2.0
PRODID:-//Plone.org//NONSGML plone.app.event//EN
X-WR-TIMEZONE:Europe/Madrid
BEGIN:VEVENT
SUMMARY:Fundació Els Garrofers, música per a tothom: Old Guitars Band
DTSTART;TZID=Europe/Madrid;VALUE=DATE-TIME:20190831T220000
DTEND;TZID=Europe/Madrid;VALUE=DATE-TIME:20190831T230000
DTSTAMP;VALUE=DATE-TIME:20260423T235340Z
UID:cf631305cc99b0bfa819a0b8a0e7af3d
CREATED;VALUE=DATE-TIME:20190831T000000Z
LOCATION:Jardins Comediants
URL:https://www.canetdemar.cat/document.php?id=18812
END:VEVENT
END:VCALENDAR