BEGIN:VCALENDAR
VERSION:2.0
PRODID:-//Plone.org//NONSGML plone.app.event//EN
X-WR-TIMEZONE:Europe/Madrid
BEGIN:VEVENT
SUMMARY:Exposició: Un patrimoni documental a l'abast
DTSTART;TZID=Europe/Madrid;VALUE=DATE-TIME:20051202T000000
DTEND;TZID=Europe/Madrid;VALUE=DATE-TIME:20051202T010000
DTSTAMP;VALUE=DATE-TIME:20260425T123818Z
UID:0ca8839e1658403f26f92a5845f23743
CREATED;VALUE=DATE-TIME:20051202T000000Z
URL:https://www.canetdemar.cat/document.php?id=1881
END:VEVENT
END:VCALENDAR