BEGIN:VCALENDAR
VERSION:2.0
PRODID:-//Plone.org//NONSGML plone.app.event//EN
X-WR-TIMEZONE:Europe/Madrid
BEGIN:VEVENT
SUMMARY:Ballada de SWING
DTSTART;TZID=Europe/Madrid;VALUE=DATE-TIME:20191222T113000
DTEND;TZID=Europe/Madrid;VALUE=DATE-TIME:20191222T123000
DTSTAMP;VALUE=DATE-TIME:20260423T122040Z
UID:4010cd1a6a93e04b4e619ab6d25db50d
CREATED;VALUE=DATE-TIME:20191222T000000Z
CATEGORIES:Dansa
LOCATION:Plaça 11 de Setembre
ORGANIZER:La Mar de Swing
COMMENT:Preu: Gratuït
DESCRIPTION:Ballada de swing oberta a tothom
URL:https://www.canetdemar.cat/document.php?id=18806
END:VEVENT
END:VCALENDAR