BEGIN:VCALENDAR
VERSION:2.0
PRODID:-//Plone.org//NONSGML plone.app.event//EN
X-WR-TIMEZONE:Europe/Madrid
BEGIN:VEVENT
SUMMARY:Reunió Patronat Garrofers
DTSTART;TZID=Europe/Madrid;VALUE=DATE-TIME:20190730T170000
DTEND;TZID=Europe/Madrid;VALUE=DATE-TIME:20190730T180000
DTSTAMP;VALUE=DATE-TIME:20260426T010807Z
UID:1b980e20b5b401ff8fb53d03f30021e9
CREATED;VALUE=DATE-TIME:20190730T000000Z
CATEGORIES:Agenda institucional
URL:https://www.canetdemar.cat/document.php?id=18780
END:VEVENT
END:VCALENDAR