BEGIN:VCALENDAR
VERSION:2.0
PRODID:-//Plone.org//NONSGML plone.app.event//EN
X-WR-TIMEZONE:Europe/Madrid
BEGIN:VEVENT
SUMMARY:Comissió informativa assessora
DTSTART;TZID=Europe/Madrid;VALUE=DATE-TIME:20190725T173000
DTEND;TZID=Europe/Madrid;VALUE=DATE-TIME:20190725T183000
DTSTAMP;VALUE=DATE-TIME:20260426T023950Z
UID:8e90611a4533371c65efc8a491d52439
CREATED;VALUE=DATE-TIME:20190725T000000Z
CATEGORIES:Agenda institucional
URL:https://www.canetdemar.cat/document.php?id=18778
END:VEVENT
END:VCALENDAR