BEGIN:VCALENDAR
VERSION:2.0
PRODID:-//Plone.org//NONSGML plone.app.event//EN
X-WR-TIMEZONE:Europe/Madrid
BEGIN:VEVENT
SUMMARY:Entrevista a Ràdio Canet
DTSTART;TZID=Europe/Madrid;VALUE=DATE-TIME:20190725T113000
DTEND;TZID=Europe/Madrid;VALUE=DATE-TIME:20190725T123000
DTSTAMP;VALUE=DATE-TIME:20260426T010622Z
UID:729f80c71ddad14091a86bd7a9d3dc7d
CREATED;VALUE=DATE-TIME:20190725T000000Z
CATEGORIES:Agenda institucional
URL:https://www.canetdemar.cat/document.php?id=18777
END:VEVENT
END:VCALENDAR