BEGIN:VCALENDAR
VERSION:2.0
PRODID:-//Plone.org//NONSGML plone.app.event//EN
X-WR-TIMEZONE:Europe/Madrid
BEGIN:VEVENT
SUMMARY:Recepció treballadors municipals
DTSTART;TZID=Europe/Madrid;VALUE=DATE-TIME:20190717T164500
DTEND;TZID=Europe/Madrid;VALUE=DATE-TIME:20190717T174500
DTSTAMP;VALUE=DATE-TIME:20260426T010737Z
UID:bc7108e03e043e2075d549060492147a
CREATED;VALUE=DATE-TIME:20190717T000000Z
CATEGORIES:Agenda institucional
URL:https://www.canetdemar.cat/document.php?id=18775
END:VEVENT
END:VCALENDAR