BEGIN:VCALENDAR
VERSION:2.0
PRODID:-//Plone.org//NONSGML plone.app.event//EN
X-WR-TIMEZONE:Europe/Madrid
BEGIN:VEVENT
SUMMARY:Comissió de comptes i extraordinària del Ple
DTSTART;TZID=Europe/Madrid;VALUE=DATE-TIME:20190708T110000
DTEND;TZID=Europe/Madrid;VALUE=DATE-TIME:20190708T120000
DTSTAMP;VALUE=DATE-TIME:20260426T053737Z
UID:c0dc1d02df6c0099fb31ab71322eb9cc
CREATED;VALUE=DATE-TIME:20190708T000000Z
CATEGORIES:Agenda institucional
URL:https://www.canetdemar.cat/document.php?id=18772
END:VEVENT
END:VCALENDAR