BEGIN:VCALENDAR
VERSION:2.0
PRODID:-//Plone.org//NONSGML plone.app.event//EN
X-WR-TIMEZONE:Europe/Madrid
BEGIN:VEVENT
SUMMARY:Reunió amb una veïna del municipi
DTSTART;TZID=Europe/Madrid;VALUE=DATE-TIME:20190705T123000
DTEND;TZID=Europe/Madrid;VALUE=DATE-TIME:20190705T133000
DTSTAMP;VALUE=DATE-TIME:20260426T053757Z
UID:110931800f6f9ac2ba3b6ac09a2b4c4a
CREATED;VALUE=DATE-TIME:20190705T000000Z
CATEGORIES:Agenda institucional
URL:https://www.canetdemar.cat/document.php?id=18771
END:VEVENT
END:VCALENDAR