BEGIN:VCALENDAR
VERSION:2.0
PRODID:-//Plone.org//NONSGML plone.app.event//EN
X-WR-TIMEZONE:Europe/Madrid
BEGIN:VEVENT
SUMMARY:Comissió informativa Ple
DTSTART;TZID=Europe/Madrid;VALUE=DATE-TIME:20190703T180000
DTEND;TZID=Europe/Madrid;VALUE=DATE-TIME:20190703T190000
DTSTAMP;VALUE=DATE-TIME:20260426T010722Z
UID:b73d5d8a0416599a688a30f3bb9a9d0f
CREATED;VALUE=DATE-TIME:20190703T000000Z
CATEGORIES:Agenda institucional
URL:https://www.canetdemar.cat/document.php?id=18767
END:VEVENT
END:VCALENDAR