BEGIN:VCALENDAR
VERSION:2.0
PRODID:-//Plone.org//NONSGML plone.app.event//EN
X-WR-TIMEZONE:Europe/Madrid
BEGIN:VEVENT
SUMMARY:Junta de Govern Local
DTSTART;TZID=Europe/Madrid;VALUE=DATE-TIME:20190724T170000
DTEND;TZID=Europe/Madrid;VALUE=DATE-TIME:20190724T180000
DTSTAMP;VALUE=DATE-TIME:20260426T010822Z
UID:d7c5a297d1c197891534cd107b195306
CREATED;VALUE=DATE-TIME:20190724T000000Z
CATEGORIES:Agenda institucional
URL:https://www.canetdemar.cat/document.php?id=18765
END:VEVENT
END:VCALENDAR