BEGIN:VCALENDAR
VERSION:2.0
PRODID:-//Plone.org//NONSGML plone.app.event//EN
X-WR-TIMEZONE:Europe/Madrid
BEGIN:VEVENT
SUMMARY:Junta de Govern Local
DTSTART;TZID=Europe/Madrid;VALUE=DATE-TIME:20190710T170000
DTEND;TZID=Europe/Madrid;VALUE=DATE-TIME:20190710T180000
DTSTAMP;VALUE=DATE-TIME:20260426T010707Z
UID:6406e1f8bf34ee2dfd856faa3dc10d16
CREATED;VALUE=DATE-TIME:20190710T000000Z
CATEGORIES:Agenda institucional
URL:https://www.canetdemar.cat/document.php?id=18763
END:VEVENT
END:VCALENDAR