BEGIN:VCALENDAR
VERSION:2.0
PRODID:-//Plone.org//NONSGML plone.app.event//EN
X-WR-TIMEZONE:Europe/Madrid
BEGIN:VEVENT
SUMMARY:Entrevista Ràdio Canet
DTSTART;TZID=Europe/Madrid;VALUE=DATE-TIME:20190702T110000
DTEND;TZID=Europe/Madrid;VALUE=DATE-TIME:20190702T120000
DTSTAMP;VALUE=DATE-TIME:20260426T010652Z
UID:d84b24cb1563b90d8f63b286c568ba9e
CREATED;VALUE=DATE-TIME:20190702T000000Z
CATEGORIES:Agenda institucional
URL:https://www.canetdemar.cat/document.php?id=18760
END:VEVENT
END:VCALENDAR