BEGIN:VCALENDAR
VERSION:2.0
PRODID:-//Plone.org//NONSGML plone.app.event//EN
X-WR-TIMEZONE:Europe/Madrid
BEGIN:VEVENT
SUMMARY:Entrevista TV3
DTSTART;TZID=Europe/Madrid;VALUE=DATE-TIME:20190701T190000
DTEND;TZID=Europe/Madrid;VALUE=DATE-TIME:20190701T200000
DTSTAMP;VALUE=DATE-TIME:20260426T024005Z
UID:f75489ca6459054555bcac676bd85c0c
CREATED;VALUE=DATE-TIME:20190701T000000Z
CATEGORIES:Agenda institucional
URL:https://www.canetdemar.cat/document.php?id=18758
END:VEVENT
END:VCALENDAR