BEGIN:VCALENDAR
VERSION:2.0
PRODID:-//Plone.org//NONSGML plone.app.event//EN
X-WR-TIMEZONE:Europe/Madrid
BEGIN:VEVENT
SUMMARY:Ple tancament Diputació Barcelona
DTSTART;TZID=Europe/Madrid;VALUE=DATE-TIME:20190701T120000
DTEND;TZID=Europe/Madrid;VALUE=DATE-TIME:20190701T130000
DTSTAMP;VALUE=DATE-TIME:20260426T024020Z
UID:391ba0164585308c9788e783060d4d54
CREATED;VALUE=DATE-TIME:20190701T000000Z
CATEGORIES:Agenda institucional
URL:https://www.canetdemar.cat/document.php?id=18757
END:VEVENT
END:VCALENDAR