BEGIN:VCALENDAR
VERSION:2.0
PRODID:-//Plone.org//NONSGML plone.app.event//EN
X-WR-TIMEZONE:Europe/Madrid
BEGIN:VEVENT
SUMMARY:Trobada taula de seguretat menors no acompanyats
DTSTART;TZID=Europe/Madrid;VALUE=DATE-TIME:20190701T120000
DTEND;TZID=Europe/Madrid;VALUE=DATE-TIME:20190701T130000
DTSTAMP;VALUE=DATE-TIME:20260426T024050Z
UID:61e7e255151bff1e7bfa80c47cdda61a
CREATED;VALUE=DATE-TIME:20190701T000000Z
CATEGORIES:Agenda institucional
URL:https://www.canetdemar.cat/document.php?id=18756
END:VEVENT
END:VCALENDAR