BEGIN:VCALENDAR
VERSION:2.0
PRODID:-//Plone.org//NONSGML plone.app.event//EN
X-WR-TIMEZONE:Europe/Madrid
BEGIN:VEVENT
SUMMARY:Signatura conveni entitats
DTSTART;TZID=Europe/Madrid;VALUE=DATE-TIME:20190628T123000
DTEND;TZID=Europe/Madrid;VALUE=DATE-TIME:20190628T133000
DTSTAMP;VALUE=DATE-TIME:20260426T024120Z
UID:fd14efb8beb0dee981eccdbe43d1d960
CREATED;VALUE=DATE-TIME:20190628T000000Z
CATEGORIES:Agenda institucional
URL:https://www.canetdemar.cat/document.php?id=18754
END:VEVENT
END:VCALENDAR