BEGIN:VCALENDAR
VERSION:2.0
PRODID:-//Plone.org//NONSGML plone.app.event//EN
X-WR-TIMEZONE:Europe/Madrid
BEGIN:VEVENT
SUMMARY:Junta de Govern Local
DTSTART;TZID=Europe/Madrid;VALUE=DATE-TIME:20190626T170000
DTEND;TZID=Europe/Madrid;VALUE=DATE-TIME:20190626T180000
DTSTAMP;VALUE=DATE-TIME:20260426T053812Z
UID:59dd508a41d5ab096100b51aad418380
CREATED;VALUE=DATE-TIME:20190626T000000Z
CATEGORIES:Agenda institucional
URL:https://www.canetdemar.cat/document.php?id=18753
END:VEVENT
END:VCALENDAR