BEGIN:VCALENDAR
VERSION:2.0
PRODID:-//Plone.org//NONSGML plone.app.event//EN
X-WR-TIMEZONE:Europe/Madrid
BEGIN:VEVENT
SUMMARY:Vídeo conferència sobre l'alzheimer
DTSTART;TZID=Europe/Madrid;VALUE=DATE-TIME:20051123T190000
DTEND;TZID=Europe/Madrid;VALUE=DATE-TIME:20051123T200000
DTSTAMP;VALUE=DATE-TIME:20260422T032656Z
UID:d8a4faa1f5ccc130c64e025d0be73227
CREATED;VALUE=DATE-TIME:20051123T000000Z
URL:https://www.canetdemar.cat/document.php?id=1863
END:VEVENT
END:VCALENDAR