BEGIN:VCALENDAR
VERSION:2.0
PRODID:-//Plone.org//NONSGML plone.app.event//EN
X-WR-TIMEZONE:Europe/Madrid
BEGIN:VEVENT
SUMMARY:Gran festa Holi Canet
DTSTART;TZID=Europe/Madrid;VALUE=DATE-TIME:20190803T183000
DTEND;TZID=Europe/Madrid;VALUE=DATE-TIME:20190803T193000
DTSTAMP;VALUE=DATE-TIME:20260423T015438Z
UID:2d57b6f1e428cdf8840d0c51b6acea8b
CREATED;VALUE=DATE-TIME:20190803T000000Z
LOCATION:Passeig Matítim
ORGANIZER:Bitxus, Diables, GEAXXI i Àrea de Festes
URL:https://www.canetdemar.cat/document.php?id=18607
END:VEVENT
END:VCALENDAR