BEGIN:VCALENDAR
VERSION:2.0
PRODID:-//Plone.org//NONSGML plone.app.event//EN
X-WR-TIMEZONE:Europe/Madrid
BEGIN:VEVENT
SUMMARY:Paseos de verano por Canet de Mar
DTSTART;TZID=Europe/Madrid;VALUE=DATE-TIME:20190713T180000
DTEND;TZID=Europe/Madrid;VALUE=DATE-TIME:20190713T190000
DTSTAMP;VALUE=DATE-TIME:20260425T223259Z
UID:f2a92e389e90de81acdb249033185cd0
CREATED;VALUE=DATE-TIME:20190713T000000Z
LOCATION:Casa museu Lluís Domènech i Montaner
ORGANIZER:Área de Cultrua del Ayuntamiento de Canet de Mar
COMMENT:Preu: 7 euros / los menos de 12 años gratuito
Durada: 2 horas. De 18 a 20h
URL:https://www.canetdemar.cat/document.php?id=18539
END:VEVENT
END:VCALENDAR