BEGIN:VCALENDAR
VERSION:2.0
PRODID:-//Plone.org//NONSGML plone.app.event//EN
X-WR-TIMEZONE:Europe/Madrid
BEGIN:VEVENT
SUMMARY:L'hora del conte
DTSTART;TZID=Europe/Madrid;VALUE=DATE-TIME:20030208T120000
DTEND;TZID=Europe/Madrid;VALUE=DATE-TIME:20030208T130000
DTSTAMP;VALUE=DATE-TIME:20260423T064524Z
UID:405e938d741629f78ebe9358706d207a
CREATED;VALUE=DATE-TIME:20030208T000000Z
DESCRIPTION:a càrrec d'Aula de Teatre
URL:https://www.canetdemar.cat/document.php?id=185
END:VEVENT
END:VCALENDAR