BEGIN:VCALENDAR
VERSION:2.0
PRODID:-//Plone.org//NONSGML plone.app.event//EN
X-WR-TIMEZONE:Europe/Madrid
BEGIN:VEVENT
SUMMARY:Fira d'atraccions
DTSTART;TZID=Europe/Madrid;VALUE=DATE-TIME:20190622T000000
DTEND;TZID=Europe/Madrid;VALUE=DATE-TIME:20190622T010000
DTSTAMP;VALUE=DATE-TIME:20260423T151539Z
UID:f098cd684b3d044a75af5b35b6ac5995
CREATED;VALUE=DATE-TIME:20190622T000000Z
LOCATION:zona de l'espigó
ORGANIZER:Àrea de Festes
COMMENT:Durada: Del 22 al 30 de juny
DESCRIPTION:Activitats de Festa Major
URL:https://www.canetdemar.cat/document.php?id=18480
END:VEVENT
END:VCALENDAR