BEGIN:VCALENDAR
VERSION:2.0
PRODID:-//Plone.org//NONSGML plone.app.event//EN
X-WR-TIMEZONE:Europe/Madrid
BEGIN:VEVENT
SUMMARY:Trobada d'intercanvi de plaques de cava
DTSTART;TZID=Europe/Madrid;VALUE=DATE-TIME:20191013T090000
DTEND;TZID=Europe/Madrid;VALUE=DATE-TIME:20191013T100000
DTSTAMP;VALUE=DATE-TIME:20260424T154643Z
UID:58335e8726293f3243adee0b7af527da
CREATED;VALUE=DATE-TIME:20191013T000000Z
LOCATION:Riera Sant Domènec
ORGANIZER:Àrea de Promoció Econòmica
COMMENT:Durada: de 9.00 a 14.00 hores
URL:https://www.canetdemar.cat/document.php?id=18396
END:VEVENT
END:VCALENDAR