BEGIN:VCALENDAR
VERSION:2.0
PRODID:-//Plone.org//NONSGML plone.app.event//EN
X-WR-TIMEZONE:Europe/Madrid
BEGIN:VEVENT
SUMMARY:Mercat de pagès
DTSTART;TZID=Europe/Madrid;VALUE=DATE-TIME:20190727T090000
DTEND;TZID=Europe/Madrid;VALUE=DATE-TIME:20190727T100000
DTSTAMP;VALUE=DATE-TIME:20260425T155341Z
UID:433ac984123610e98158637e8205cc57
CREATED;VALUE=DATE-TIME:20190727T000000Z
LOCATION:Riera Gavarra (alçada parada bus Comediants)
ORGANIZER:Àrea de Promoció Econòmica
COMMENT:Durada: de 9.00 a 14.00 hores
URL:https://www.canetdemar.cat/document.php?id=18390
END:VEVENT
END:VCALENDAR