BEGIN:VCALENDAR
VERSION:2.0
PRODID:-//Plone.org//NONSGML plone.app.event//EN
X-WR-TIMEZONE:Europe/Madrid
BEGIN:VEVENT
SUMMARY:Taller de teatre d'improvisació
DTSTART;TZID=Europe/Madrid;VALUE=DATE-TIME:20190610T190000
DTEND;TZID=Europe/Madrid;VALUE=DATE-TIME:20190610T200000
DTSTAMP;VALUE=DATE-TIME:20260423T034820Z
UID:2709f031818a3d0296cf40a542ebe988
CREATED;VALUE=DATE-TIME:20190610T000000Z
CATEGORIES:Teatre
LOCATION:Seu de Sàlvia, (Plaça Manén, s/n)
ORGANIZER:Sàlvia, associació de dones de Canet de Mar
COMMENT:Preu: Gratuït
Durada: els dilluns de juny i part de juliol a partir de les 19:00
DESCRIPTION:Preparem la fira modernista de Canet - Per Maribel Garcia
URL:https://www.canetdemar.cat/document.php?id=18365
END:VEVENT
END:VCALENDAR