BEGIN:VCALENDAR
VERSION:2.0
PRODID:-//Plone.org//NONSGML plone.app.event//EN
X-WR-TIMEZONE:Europe/Madrid
BEGIN:VEVENT
SUMMARY:Hora del conte: Més aventures del transportista Trescebes
DTSTART;TZID=Europe/Madrid;VALUE=DATE-TIME:20191026T120000
DTEND;TZID=Europe/Madrid;VALUE=DATE-TIME:20191026T130000
DTSTAMP;VALUE=DATE-TIME:20260424T023327Z
UID:99e39cc34e10c5614171c9abc420947d
CREATED;VALUE=DATE-TIME:20191026T000000Z
CATEGORIES:Infantils
LOCATION:Biblioteca P. Gual i Pujadas
ORGANIZER:Biblioteca P. Gual i Pujadas
COMMENT:Preu: Gratuït
URL:https://www.canetdemar.cat/document.php?id=18290
END:VEVENT
END:VCALENDAR