BEGIN:VCALENDAR
VERSION:2.0
PRODID:-//Plone.org//NONSGML plone.app.event//EN
X-WR-TIMEZONE:Europe/Madrid
BEGIN:VEVENT
SUMMARY:Taller: Aprenentatge i cervell
DTSTART;TZID=Europe/Madrid;VALUE=DATE-TIME:20190509T173000
DTEND;TZID=Europe/Madrid;VALUE=DATE-TIME:20190509T183000
DTSTAMP;VALUE=DATE-TIME:20260423T114833Z
UID:4f8ecb45afa5784f656f56a2f9dcca16
CREATED;VALUE=DATE-TIME:20190509T000000Z
LOCATION:Aula Magna CRTTT - Escola de Teixits
ORGANIZER:Àrea d'Educació
URL:https://www.canetdemar.cat/document.php?id=18268
END:VEVENT
END:VCALENDAR