BEGIN:VCALENDAR
VERSION:2.0
PRODID:-//Plone.org//NONSGML plone.app.event//EN
X-WR-TIMEZONE:Europe/Madrid
BEGIN:VEVENT
SUMMARY:Fira modernista de Terrassa
DTSTART;TZID=Europe/Madrid;VALUE=DATE-TIME:20190511T150000
DTEND;TZID=Europe/Madrid;VALUE=DATE-TIME:20190511T160000
DTSTAMP;VALUE=DATE-TIME:20260425T022418Z
UID:13b116ee2ba96e16fa8f3469f7d2ab48
CREATED;VALUE=DATE-TIME:20190511T000000Z
LOCATION:Parada Bus Comediants
ORGANIZER:Sàlvia, associació de dones de Canet de Mar
COMMENT:Preu: Gratuït per la gent vestida d'època. Pels acompanyants no vestits 12 euros
Durada: Tornarem aproximadament a les 10 de la nit
DESCRIPTION:Les modernistes de Canet visiten el modernisme de Terrassa
URL:https://www.canetdemar.cat/document.php?id=18241
END:VEVENT
END:VCALENDAR