BEGIN:VCALENDAR
VERSION:2.0
PRODID:-//Plone.org//NONSGML plone.app.event//EN
X-WR-TIMEZONE:Europe/Madrid
BEGIN:VEVENT
SUMMARY:Trobada de Cercle de Dones
DTSTART;TZID=Europe/Madrid;VALUE=DATE-TIME:20190518T110000
DTEND;TZID=Europe/Madrid;VALUE=DATE-TIME:20190518T120000
DTSTAMP;VALUE=DATE-TIME:20260422T222049Z
UID:f23daba0a8a044918f4cf76f9c5a4d33
CREATED;VALUE=DATE-TIME:20190518T000000Z
CATEGORIES:Mostra
LOCATION:Zona bar Escola de Teixits - CRTTT
ORGANIZER:Mares Malabaristes assoc. cult. i participació
COMMENT:Preu: gratuït
Durada: dues hores aproximadament
URL:https://www.canetdemar.cat/document.php?id=18223
END:VEVENT
END:VCALENDAR