BEGIN:VCALENDAR
VERSION:2.0
PRODID:-//Plone.org//NONSGML plone.app.event//EN
X-WR-TIMEZONE:Europe/Madrid
BEGIN:VEVENT
SUMMARY:16a diada de la Maduixa
DTSTART;TZID=Europe/Madrid;VALUE=DATE-TIME:20190505T090000
DTEND;TZID=Europe/Madrid;VALUE=DATE-TIME:20190505T100000
DTSTAMP;VALUE=DATE-TIME:20260424T180912Z
UID:a3d8e1b6d60d7a8d07f741903ef7e6ec
CREATED;VALUE=DATE-TIME:20190505T000000Z
LOCATION:rier Sant Domènec i carrer Ample
ORGANIZER:Àrea de Promoció Econòmica
COMMENT:Durada: de 9.00 a 14.00 hores
URL:https://www.canetdemar.cat/document.php?id=18221
END:VEVENT
END:VCALENDAR