BEGIN:VCALENDAR
VERSION:2.0
PRODID:-//Plone.org//NONSGML plone.app.event//EN
X-WR-TIMEZONE:Europe/Madrid
BEGIN:VEVENT
SUMMARY:Sopar tertúlia: "La Xina, avui"
DTSTART;TZID=Europe/Madrid;VALUE=DATE-TIME:20051022T213000
DTEND;TZID=Europe/Madrid;VALUE=DATE-TIME:20051022T223000
DTSTAMP;VALUE=DATE-TIME:20260421T223944Z
UID:7a904494e0876336f3910939b325c52e
CREATED;VALUE=DATE-TIME:20051022T000000Z
URL:https://www.canetdemar.cat/document.php?id=1822
END:VEVENT
END:VCALENDAR