BEGIN:VCALENDAR
VERSION:2.0
PRODID:-//Plone.org//NONSGML plone.app.event//EN
X-WR-TIMEZONE:Europe/Madrid
BEGIN:VEVENT
SUMMARY:Recuperant la memòria de dones de pes
DTSTART;TZID=Europe/Madrid;VALUE=DATE-TIME:20190517T183000
DTEND;TZID=Europe/Madrid;VALUE=DATE-TIME:20190517T193000
DTSTAMP;VALUE=DATE-TIME:20260426T051027Z
UID:042c024dafdbd452bab598a9b220a23c
CREATED;VALUE=DATE-TIME:20190517T000000Z
CATEGORIES:Conferència
LOCATION:Aula Magna CRTTT - Escola de Teixits
ORGANIZER:Sàlvia, associació de dones de Canet de Mar
COMMENT:Preu: Gratuït
DESCRIPTION:Per les DONES DE GRÀCIA , Conxa Garcia, Àngels Tomàs i Josefina Altés
URL:https://www.canetdemar.cat/document.php?id=18199
END:VEVENT
END:VCALENDAR