BEGIN:VCALENDAR
VERSION:2.0
PRODID:-//Plone.org//NONSGML plone.app.event//EN
X-WR-TIMEZONE:Europe/Madrid
BEGIN:VEVENT
SUMMARY:Concert Ivett Nadal i Caïm Riba
DTSTART;TZID=Europe/Madrid;VALUE=DATE-TIME:20190426T210000
DTEND;TZID=Europe/Madrid;VALUE=DATE-TIME:20190426T220000
DTSTAMP;VALUE=DATE-TIME:20260423T070807Z
UID:696cd103f5317f8c4f831a484fbd4442
CREATED;VALUE=DATE-TIME:20190426T000000Z
CATEGORIES:Música
LOCATION:Jardins de Vil.la Flora
ORGANIZER:www.essencials.cat
COMMENT:Preu: 6 euros anticipada - 8 euros taquilla
DESCRIPTION:Cicle ESSENCIALS
URL:https://www.canetdemar.cat/document.php?id=18183
END:VEVENT
END:VCALENDAR