BEGIN:VCALENDAR
VERSION:2.0
PRODID:-//Plone.org//NONSGML plone.app.event//EN
X-WR-TIMEZONE:Europe/Madrid
BEGIN:VEVENT
SUMMARY:I Cursa Maresme en marxa contra el càncer
DTSTART;TZID=Europe/Madrid;VALUE=DATE-TIME:20190505T000000
DTEND;TZID=Europe/Madrid;VALUE=DATE-TIME:20190505T010000
DTSTAMP;VALUE=DATE-TIME:20260424T202655Z
UID:45f2acb6ba7f2019aa51b6a37082fed4
CREATED;VALUE=DATE-TIME:20190505T000000Z
URL:https://www.canetdemar.cat/document.php?id=18180
END:VEVENT
END:VCALENDAR