BEGIN:VCALENDAR
VERSION:2.0
PRODID:-//Plone.org//NONSGML plone.app.event//EN
X-WR-TIMEZONE:Europe/Madrid
BEGIN:VEVENT
SUMMARY:Presentació llibre: Los días del Chador d'Amadeu Deu Lozano
DTSTART;TZID=Europe/Madrid;VALUE=DATE-TIME:20190412T190000
DTEND;TZID=Europe/Madrid;VALUE=DATE-TIME:20190412T200000
DTSTAMP;VALUE=DATE-TIME:20260425T223735Z
UID:4457e627c28907837aa80730b3b3eab7
CREATED;VALUE=DATE-TIME:20190412T000000Z
CATEGORIES:Literatura
LOCATION:Llibreria Traços
URL:https://www.canetdemar.cat/document.php?id=18157
END:VEVENT
END:VCALENDAR