BEGIN:VCALENDAR
VERSION:2.0
PRODID:-//Plone.org//NONSGML plone.app.event//EN
X-WR-TIMEZONE:Europe/Madrid
BEGIN:VEVENT
SUMMARY:Hora del conte: En Jan i els seus cavallers amb la Fina Gelpí
DTSTART;TZID=Europe/Madrid;VALUE=DATE-TIME:20190525T120000
DTEND;TZID=Europe/Madrid;VALUE=DATE-TIME:20190525T130000
DTSTAMP;VALUE=DATE-TIME:20260421T020408Z
UID:f8e37e60241e5300ed00fea59dc6366e
CREATED;VALUE=DATE-TIME:20190525T000000Z
CATEGORIES:Infantils
LOCATION:Biblioteca P. Gual i Pujadas
ORGANIZER:Biblioteca P. Gual i Pujadas
COMMENT:Preu: Gratuït
DESCRIPTION:Contes pels més nenuts
URL:https://www.canetdemar.cat/document.php?id=18136
END:VEVENT
END:VCALENDAR