BEGIN:VCALENDAR
VERSION:2.0
PRODID:-//Plone.org//NONSGML plone.app.event//EN
X-WR-TIMEZONE:Europe/Madrid
BEGIN:VEVENT
SUMMARY:Contes per la terra de la Tieta Mon
DTSTART;TZID=Europe/Madrid;VALUE=DATE-TIME:20190511T120000
DTEND;TZID=Europe/Madrid;VALUE=DATE-TIME:20190511T130000
DTSTAMP;VALUE=DATE-TIME:20260422T034723Z
UID:243ecd6c8e862a40bfa2ee927c18a4c6
CREATED;VALUE=DATE-TIME:20190511T000000Z
CATEGORIES:Infantils
LOCATION:Biblioteca P. Gual i Pujadas
ORGANIZER:Biblioteca P. Gual i Pujadas
COMMENT:Preu: Gratuït
URL:https://www.canetdemar.cat/document.php?id=18135
END:VEVENT
END:VCALENDAR