BEGIN:VCALENDAR
VERSION:2.0
PRODID:-//Plone.org//NONSGML plone.app.event//EN
X-WR-TIMEZONE:Europe/Madrid
BEGIN:VEVENT
SUMMARY:Curs monogràfic sobre l'ús artístic del pinzell
DTSTART;TZID=Europe/Madrid;VALUE=DATE-TIME:20030211T200000
DTEND;TZID=Europe/Madrid;VALUE=DATE-TIME:20030211T210000
DTSTAMP;VALUE=DATE-TIME:20260425T020557Z
UID:b538d689996f66c951d408628b2ef2bc
CREATED;VALUE=DATE-TIME:20030211T000000Z
URL:https://www.canetdemar.cat/document.php?id=181
END:VEVENT
END:VCALENDAR