BEGIN:VCALENDAR
VERSION:2.0
PRODID:-//Plone.org//NONSGML plone.app.event//EN
X-WR-TIMEZONE:Europe/Madrid
BEGIN:VEVENT
SUMMARY:Segon campionat escolar d'atletisme de Canet de Mar
DTSTART;TZID=Europe/Madrid;VALUE=DATE-TIME:20190330T100000
DTEND;TZID=Europe/Madrid;VALUE=DATE-TIME:20190330T110000
DTSTAMP;VALUE=DATE-TIME:20260423T064949Z
UID:8d3da3a4af1b96eea0141f3dd49fbdce
CREATED;VALUE=DATE-TIME:20190330T000000Z
CATEGORIES:Esports
LOCATION:Pista Municipal d'atletisme de Canet de Mar
ORGANIZER:Club Atletisme Sport Canet
URL:https://www.canetdemar.cat/document.php?id=18095
END:VEVENT
END:VCALENDAR