BEGIN:VCALENDAR
VERSION:2.0
PRODID:-//Plone.org//NONSGML plone.app.event//EN
X-WR-TIMEZONE:Europe/Madrid
BEGIN:VEVENT
SUMMARY:1a sessió Cicle: Els dijous a Canet: Aturem la violència (ajornat fins al 25/04/2019)
DTSTART;TZID=Europe/Madrid;VALUE=DATE-TIME:20190328T180000
DTEND;TZID=Europe/Madrid;VALUE=DATE-TIME:20190328T190000
DTSTAMP;VALUE=DATE-TIME:20260424T101949Z
UID:35bf1c4c06347aa31e9c0f6ed278cbfb
CREATED;VALUE=DATE-TIME:20190328T000000Z
LOCATION:Sala Bar del CRTTT - Escola de Teixits
ORGANIZER:Àrea d'Igualtat
URL:https://www.canetdemar.cat/document.php?id=18086
END:VEVENT
END:VCALENDAR