BEGIN:VCALENDAR
VERSION:2.0
PRODID:-//Plone.org//NONSGML plone.app.event//EN
X-WR-TIMEZONE:Europe/Madrid
BEGIN:VEVENT
SUMMARY:Exposició: ¡Gran éxito! El cinema a l'època del Modernisme
DTSTART;TZID=Europe/Madrid;VALUE=DATE-TIME:20190316T000000
DTEND;TZID=Europe/Madrid;VALUE=DATE-TIME:20190316T010000
DTSTAMP;VALUE=DATE-TIME:20260422T235840Z
UID:3de2730626f521c2fe48bae0b212cdc9
CREATED;VALUE=DATE-TIME:20190316T000000Z
LOCATION:Casa museu Lluís Domènech i Montaner
ORGANIZER:Casa museu Lluís Domènech i Montaner
COMMENT:Durada: del 16 de març al 15 de setembre de 2019
URL:https://www.canetdemar.cat/document.php?id=18029
END:VEVENT
END:VCALENDAR